BEGIN:VCALENDAR
VERSION:2.0
PRODID:-//Rancho Sahuarita - ECPv6.15.20//NONSGML v1.0//EN
CALSCALE:GREGORIAN
METHOD:PUBLISH
X-WR-CALNAME:Rancho Sahuarita
X-ORIGINAL-URL:https://ranchosahuarita.com
X-WR-CALDESC:Events for Rancho Sahuarita
REFRESH-INTERVAL;VALUE=DURATION:PT1H
X-Robots-Tag:noindex
X-PUBLISHED-TTL:PT1H
BEGIN:VTIMEZONE
TZID:America/Phoenix
BEGIN:STANDARD
TZOFFSETFROM:-0700
TZOFFSETTO:-0700
TZNAME:MST
DTSTART:20250101T000000
END:STANDARD
END:VTIMEZONE
BEGIN:VEVENT
DTSTART;TZID=America/Phoenix:20260119T100000
DTEND;TZID=America/Phoenix:20260119T113000
DTSTAMP:20260421T081444
CREATED:20250102T192756Z
LAST-MODIFIED:20260105T205622Z
UID:10002470-1768816800-1768822200@ranchosahuarita.com
SUMMARY:Books & Brunch
DESCRIPTION:Join us for a light brunch and our Monday morning book club!
URL:https://ranchosahuarita.com/event/books-brunch/2026-01-19/
LOCATION:Club Rancho Sahuarita
ATTACH;FMTTYPE=image/jpeg:https://ranchosahuarita.com/wp-content/uploads/2024/04/Books-Brunch-scaled.webp
END:VEVENT
BEGIN:VEVENT
DTSTART;TZID=America/Phoenix:20260119T130000
DTEND;TZID=America/Phoenix:20260119T140000
DTSTAMP:20260421T081444
CREATED:20250102T183849Z
LAST-MODIFIED:20260105T201444Z
UID:10002076-1768827600-1768831200@ranchosahuarita.com
SUMMARY:Ice Cream Giveaway
DESCRIPTION:Stop by Club Rancho Sahuarita for this free ice cream giveaway!
URL:https://ranchosahuarita.com/event/ice-cream-giveaway/
LOCATION:Club Rancho Sahuarita
ATTACH;FMTTYPE=image/png:https://ranchosahuarita.com/wp-content/uploads/2024/08/Screenshot-2024-08-30-104834.png
END:VEVENT
END:VCALENDAR